BEGIN:VCALENDAR
VERSION:2.0
PRODID:-//Erich Kästner Schule EKS - ECPv4.9.3.2//NONSGML v1.0//EN
CALSCALE:GREGORIAN
METHOD:PUBLISH
X-WR-CALNAME:Erich Kästner Schule EKS
X-ORIGINAL-URL:http://www.erich-kaestner-schule-grevenbroich.de
X-WR-CALDESC:Veranstaltungen im Erich Kästner Schule EKS
BEGIN:VEVENT
DTSTART;TZID=Europe/Berlin:20191223T080000
DTEND;TZID=Europe/Berlin:20200106T170000
DTSTAMP:20260419T165016
CREATED:20191007T143243Z
LAST-MODIFIED:20191007T143933Z
UID:1115-1577088000-1578330000@www.erich-kaestner-schule-grevenbroich.de
SUMMARY:Weihnachtsferien
DESCRIPTION:\n\n\nOGS geschlossen \n\n\n\n\n\n\n\n\n\n\n
URL:http://www.erich-kaestner-schule-grevenbroich.de/termin/weihnachtsferien/
END:VEVENT
END:VCALENDAR