BEGIN:VCALENDAR
VERSION:2.0
PRODID:-//Erich Kästner Schule EKS - ECPv4.9.3.2//NONSGML v1.0//EN
CALSCALE:GREGORIAN
METHOD:PUBLISH
X-WR-CALNAME:Erich Kästner Schule EKS
X-ORIGINAL-URL:http://www.erich-kaestner-schule-grevenbroich.de
X-WR-CALDESC:Veranstaltungen im Erich Kästner Schule EKS
BEGIN:VEVENT
DTSTART;TZID=Europe/Berlin:20201130T080000
DTEND;TZID=Europe/Berlin:20201204T170000
DTSTAMP:20260420T091744
CREATED:20200916T065419Z
LAST-MODIFIED:20200916T065419Z
UID:1842-1606723200-1607101200@www.erich-kaestner-schule-grevenbroich.de
SUMMARY:Walk to School
DESCRIPTION:\n\n\n \n\n\n\n\n\n\n\n\n\n\n
URL:http://www.erich-kaestner-schule-grevenbroich.de/termin/walk-to-school-3/
END:VEVENT
END:VCALENDAR