BEGIN:VCALENDAR
VERSION:2.0
PRODID:-//Erich Kästner Schule EKS - ECPv4.9.3.2//NONSGML v1.0//EN
CALSCALE:GREGORIAN
METHOD:PUBLISH
X-WR-CALNAME:Erich Kästner Schule EKS
X-ORIGINAL-URL:http://www.erich-kaestner-schule-grevenbroich.de
X-WR-CALDESC:Veranstaltungen im Erich Kästner Schule EKS
BEGIN:VEVENT
DTSTART;TZID=Europe/Berlin:20200225T080000
DTEND;TZID=Europe/Berlin:20200225T170000
DTSTAMP:20260419T215150
CREATED:20190824T105741Z
LAST-MODIFIED:20191007T143609Z
UID:878-1582617600-1582650000@www.erich-kaestner-schule-grevenbroich.de
SUMMARY:Veilchendienstag
DESCRIPTION:\n\n\nUnterrichtsfrei – OGS geschlossen \n\n\n\n\n\n\n\n\n\n\n
URL:http://www.erich-kaestner-schule-grevenbroich.de/termin/veilchendienstag/
END:VEVENT
END:VCALENDAR