BEGIN:VCALENDAR
VERSION:2.0
PRODID:-//Erich Kästner Schule EKS - ECPv4.9.3.2//NONSGML v1.0//EN
CALSCALE:GREGORIAN
METHOD:PUBLISH
X-WR-CALNAME:Erich Kästner Schule EKS
X-ORIGINAL-URL:http://www.erich-kaestner-schule-grevenbroich.de
X-WR-CALDESC:Veranstaltungen im Erich Kästner Schule EKS
BEGIN:VEVENT
DTSTART;TZID=Europe/Berlin:20190828T080000
DTEND;TZID=Europe/Berlin:20190828T113000
DTSTAMP:20260420T090434
CREATED:20190713T162200Z
LAST-MODIFIED:20190822T183759Z
UID:355-1566979200-1566991800@www.erich-kaestner-schule-grevenbroich.de
SUMMARY:Schulbeginn
DESCRIPTION:\n\n\n \n\n\n\n\n\n\n\n\n\n\n
URL:http://www.erich-kaestner-schule-grevenbroich.de/termin/test/
END:VEVENT
END:VCALENDAR