BEGIN:VCALENDAR
VERSION:2.0
PRODID:-//Erich Kästner Schule EKS - ECPv4.9.3.2//NONSGML v1.0//EN
CALSCALE:GREGORIAN
METHOD:PUBLISH
X-WR-CALNAME:Erich Kästner Schule EKS
X-ORIGINAL-URL:http://www.erich-kaestner-schule-grevenbroich.de
X-WR-CALDESC:Veranstaltungen im Erich Kästner Schule EKS
BEGIN:VEVENT
DTSTART;TZID=Europe/Berlin:20190928T080000
DTEND;TZID=Europe/Berlin:20190928T113000
DTSTAMP:20260419T165015
CREATED:20190822T185328Z
LAST-MODIFIED:20190918T180338Z
UID:795-1569657600-1569670200@www.erich-kaestner-schule-grevenbroich.de
SUMMARY:Tag der offenen Tür
DESCRIPTION:\n\n\nFür Schulkinder 8:00 – 11.30 Uhr Unterricht \n\n\n\nFür Gäste sind unsere Türen von 9:30 – 12.00 Uhr geöffnet. \n\n\n\n\n\n\n\n\n\n\n
URL:http://www.erich-kaestner-schule-grevenbroich.de/termin/tag-der-offenen-tuer/
END:VEVENT
END:VCALENDAR