BEGIN:VCALENDAR
VERSION:2.0
PRODID:-//Erich Kästner Schule EKS - ECPv4.9.3.2//NONSGML v1.0//EN
CALSCALE:GREGORIAN
METHOD:PUBLISH
X-WR-CALNAME:Erich Kästner Schule EKS
X-ORIGINAL-URL:http://www.erich-kaestner-schule-grevenbroich.de
X-WR-CALDESC:Veranstaltungen im Erich Kästner Schule EKS
BEGIN:VEVENT
DTSTART;TZID=Europe/Berlin:20191003T080000
DTEND;TZID=Europe/Berlin:20191003T170000
DTSTAMP:20260419T181341
CREATED:20190824T104121Z
LAST-MODIFIED:20190918T180258Z
UID:837-1570089600-1570122000@www.erich-kaestner-schule-grevenbroich.de
SUMMARY:Tag der Deutschen Einheit
DESCRIPTION:\n\n\nUnterrichtsfrei \n\n\n\n\n\n\n\n\n\n\n
URL:http://www.erich-kaestner-schule-grevenbroich.de/termin/tag-der-deutscheun-einheit/
END:VEVENT
END:VCALENDAR