BEGIN:VCALENDAR
VERSION:2.0
PRODID:-//Erich Kästner Schule EKS - ECPv4.9.3.2//NONSGML v1.0//EN
CALSCALE:GREGORIAN
METHOD:PUBLISH
X-WR-CALNAME:Erich Kästner Schule EKS
X-ORIGINAL-URL:http://www.erich-kaestner-schule-grevenbroich.de
X-WR-CALDESC:Veranstaltungen im Erich Kästner Schule EKS
BEGIN:VEVENT
DTSTART;TZID=Europe/Berlin:20191111T163000
DTEND;TZID=Europe/Berlin:20191111T190000
DTSTAMP:20260419T163108
CREATED:20190824T104302Z
LAST-MODIFIED:20191005T132532Z
UID:841-1573489800-1573498800@www.erich-kaestner-schule-grevenbroich.de
SUMMARY:St. Martin
DESCRIPTION:\n\n\n \n\n\n\n\n\n\n\n\n\n\n
URL:http://www.erich-kaestner-schule-grevenbroich.de/termin/st-martin/
END:VEVENT
END:VCALENDAR