BEGIN:VCALENDAR
VERSION:2.0
PRODID:-//Erich Kästner Schule EKS - ECPv4.9.3.2//NONSGML v1.0//EN
CALSCALE:GREGORIAN
METHOD:PUBLISH
X-WR-CALNAME:Erich Kästner Schule EKS
X-ORIGINAL-URL:http://www.erich-kaestner-schule-grevenbroich.de
X-WR-CALDESC:Veranstaltungen im Erich Kästner Schule EKS
BEGIN:VEVENT
DTSTART;TZID=Europe/Berlin:20190925T193000
DTEND;TZID=Europe/Berlin:20190925T220000
DTSTAMP:20260419T182038
CREATED:20190902T173214Z
LAST-MODIFIED:20190902T173214Z
UID:1012-1569439800-1569448800@www.erich-kaestner-schule-grevenbroich.de
SUMMARY:Schulpflegschaftssitzung
DESCRIPTION:\n\n\n \n\n\n\n\n\n\n\n\n\n\n
URL:http://www.erich-kaestner-schule-grevenbroich.de/termin/schulpflegschaftssitzung/
END:VEVENT
END:VCALENDAR