BEGIN:VCALENDAR
VERSION:2.0
PRODID:-//Erich Kästner Schule EKS - ECPv4.9.3.2//NONSGML v1.0//EN
CALSCALE:GREGORIAN
METHOD:PUBLISH
X-WR-CALNAME:Erich Kästner Schule EKS
X-ORIGINAL-URL:http://www.erich-kaestner-schule-grevenbroich.de
X-WR-CALDESC:Veranstaltungen im Erich Kästner Schule EKS
BEGIN:VEVENT
DTSTART;TZID=Europe/Berlin:20191002T193000
DTEND;TZID=Europe/Berlin:20191002T220000
DTSTAMP:20260419T150431
CREATED:20190902T173305Z
LAST-MODIFIED:20190902T173306Z
UID:1014-1570044600-1570053600@www.erich-kaestner-schule-grevenbroich.de
SUMMARY:Schulkonferenz
DESCRIPTION:\n\n\n \n\n\n\n\n\n\n\n\n\n\n
URL:http://www.erich-kaestner-schule-grevenbroich.de/termin/schulkonferenz/
END:VEVENT
END:VCALENDAR