BEGIN:VCALENDAR
VERSION:2.0
PRODID:-//Erich Kästner Schule EKS - ECPv4.9.3.2//NONSGML v1.0//EN
CALSCALE:GREGORIAN
METHOD:PUBLISH
X-WR-CALNAME:Erich Kästner Schule EKS
X-ORIGINAL-URL:http://www.erich-kaestner-schule-grevenbroich.de
X-WR-CALDESC:Veranstaltungen im Erich Kästner Schule EKS
BEGIN:VEVENT
DTSTART;TZID=Europe/Berlin:20210518T200000
DTEND;TZID=Europe/Berlin:20210518T210000
DTSTAMP:20260420T023433
CREATED:20210202T102518Z
LAST-MODIFIED:20210202T102519Z
UID:2004-1621368000-1621371600@www.erich-kaestner-schule-grevenbroich.de
SUMMARY:Schulkonferenz
DESCRIPTION:\n\n\n \n\n\n\n\n\n\n\n\n\n\n
URL:http://www.erich-kaestner-schule-grevenbroich.de/termin/schulkonferenz-3/
END:VEVENT
END:VCALENDAR