BEGIN:VCALENDAR
VERSION:2.0
PRODID:-//Erich Kästner Schule EKS - ECPv4.9.3.2//NONSGML v1.0//EN
CALSCALE:GREGORIAN
METHOD:PUBLISH
X-WR-CALNAME:Erich Kästner Schule EKS
X-ORIGINAL-URL:http://www.erich-kaestner-schule-grevenbroich.de
X-WR-CALDESC:Veranstaltungen im Erich Kästner Schule EKS
BEGIN:VEVENT
DTSTART;TZID=Europe/Berlin:20200917T190000
DTEND;TZID=Europe/Berlin:20200917T210000
DTSTAMP:20260420T073439
CREATED:20200817T082549Z
LAST-MODIFIED:20200817T082549Z
UID:1735-1600369200-1600376400@www.erich-kaestner-schule-grevenbroich.de
SUMMARY:Schulkonferenz
DESCRIPTION:\n\n\n \n\n\n\n\n\n\n\n\n\n\n
URL:http://www.erich-kaestner-schule-grevenbroich.de/termin/schulkonferenz-2/
END:VEVENT
END:VCALENDAR