BEGIN:VCALENDAR
VERSION:2.0
PRODID:-//Erich Kästner Schule EKS - ECPv4.9.3.2//NONSGML v1.0//EN
CALSCALE:GREGORIAN
METHOD:PUBLISH
X-WR-CALNAME:Erich Kästner Schule EKS
X-ORIGINAL-URL:http://www.erich-kaestner-schule-grevenbroich.de
X-WR-CALDESC:Veranstaltungen im Erich Kästner Schule EKS
BEGIN:VEVENT
DTSTART;TZID=Europe/Berlin:20200224T080000
DTEND;TZID=Europe/Berlin:20200224T170000
DTSTAMP:20260419T195331
CREATED:20190824T105707Z
LAST-MODIFIED:20191007T143546Z
UID:876-1582531200-1582563600@www.erich-kaestner-schule-grevenbroich.de
SUMMARY:Rosenmontag
DESCRIPTION:\n\n\nUnterrichtsfrei – OGS geschlossen \n\n\n\n\n\n\n\n\n\n\n
URL:http://www.erich-kaestner-schule-grevenbroich.de/termin/rosenmontag/
END:VEVENT
END:VCALENDAR