BEGIN:VCALENDAR
VERSION:2.0
PRODID:-//Erich Kästner Schule EKS - ECPv4.9.3.2//NONSGML v1.0//EN
CALSCALE:GREGORIAN
METHOD:PUBLISH
X-WR-CALNAME:Erich Kästner Schule EKS
X-ORIGINAL-URL:http://www.erich-kaestner-schule-grevenbroich.de
X-WR-CALDESC:Veranstaltungen im Erich Kästner Schule EKS
BEGIN:VEVENT
DTSTART;TZID=Europe/Berlin:20210429T080000
DTEND;TZID=Europe/Berlin:20210429T132000
DTSTAMP:20260420T091458
CREATED:20200817T084400Z
LAST-MODIFIED:20210422T054617Z
UID:1768-1619683200-1619702400@www.erich-kaestner-schule-grevenbroich.de
SUMMARY:Radfahrtraining Stufe 4
DESCRIPTION:\n\n\n \n\n\n\n\n\n\n\n\n\n\n
URL:http://www.erich-kaestner-schule-grevenbroich.de/termin/radfahrtraining-stufe-4-6/
END:VEVENT
END:VCALENDAR