BEGIN:VCALENDAR
VERSION:2.0
PRODID:-//Erich Kästner Schule EKS - ECPv4.9.3.2//NONSGML v1.0//EN
CALSCALE:GREGORIAN
METHOD:PUBLISH
X-WR-CALNAME:Erich Kästner Schule EKS
X-ORIGINAL-URL:http://www.erich-kaestner-schule-grevenbroich.de
X-WR-CALDESC:Veranstaltungen im Erich Kästner Schule EKS
BEGIN:VEVENT
DTSTART;TZID=Europe/Berlin:20191029T080000
DTEND;TZID=Europe/Berlin:20191029T132000
DTSTAMP:20260419T131434
CREATED:20190824T103726Z
LAST-MODIFIED:20190824T110940Z
UID:833-1572336000-1572355200@www.erich-kaestner-schule-grevenbroich.de
SUMMARY:Radfahrtraining Klasse 4
DESCRIPTION:\n\n\nModul 5 \n\n\n\n\n\n\n\n\n\n\n
URL:http://www.erich-kaestner-schule-grevenbroich.de/termin/radfahrtraining-klasse/
END:VEVENT
END:VCALENDAR