BEGIN:VCALENDAR
VERSION:2.0
PRODID:-//Erich Kästner Schule EKS - ECPv4.9.3.2//NONSGML v1.0//EN
CALSCALE:GREGORIAN
METHOD:PUBLISH
X-WR-CALNAME:Erich Kästner Schule EKS
X-ORIGINAL-URL:http://www.erich-kaestner-schule-grevenbroich.de
X-WR-CALDESC:Veranstaltungen im Erich Kästner Schule EKS
BEGIN:VEVENT
DTSTART;TZID=Europe/Berlin:20210614T080000
DTEND;TZID=Europe/Berlin:20210614T113000
DTSTAMP:20260420T054938
CREATED:20200817T084602Z
LAST-MODIFIED:20210422T054807Z
UID:1774-1623657600-1623670200@www.erich-kaestner-schule-grevenbroich.de
SUMMARY:Radfahrtraining Stufe 4
DESCRIPTION:\n\n\nModul 5 – PRÜFUNG \n\n\n\n\n\n\n\n\n\n\n
URL:http://www.erich-kaestner-schule-grevenbroich.de/termin/radfahrpruefung-stufe-4/
END:VEVENT
END:VCALENDAR