BEGIN:VCALENDAR
VERSION:2.0
PRODID:-//Erich Kästner Schule EKS - ECPv4.9.3.2//NONSGML v1.0//EN
CALSCALE:GREGORIAN
METHOD:PUBLISH
X-WR-CALNAME:Erich Kästner Schule EKS
X-ORIGINAL-URL:http://www.erich-kaestner-schule-grevenbroich.de
X-WR-CALDESC:Veranstaltungen im Erich Kästner Schule EKS
BEGIN:VEVENT
DTSTART;TZID=Europe/Berlin:20200619T080000
DTEND;TZID=Europe/Berlin:20200619T123000
DTSTAMP:20260420T034412
CREATED:20200511T112303Z
LAST-MODIFIED:20200511T112304Z
UID:1583-1592553600-1592569800@www.erich-kaestner-schule-grevenbroich.de
SUMMARY:Präsenztag Stufe 4
DESCRIPTION:\n\n\n4 a/b 8.00 – 11.30 Uhr \n\n\n\n4 c/d 9.00 – 12.30 Uhr \n\n\n\n\n\n\n\n\n\n\n
URL:http://www.erich-kaestner-schule-grevenbroich.de/termin/praesenztag-stufe-4-6/
END:VEVENT
END:VCALENDAR