BEGIN:VCALENDAR
VERSION:2.0
PRODID:-//Erich Kästner Schule EKS - ECPv4.9.3.2//NONSGML v1.0//EN
CALSCALE:GREGORIAN
METHOD:PUBLISH
X-WR-CALNAME:Erich Kästner Schule EKS
X-ORIGINAL-URL:http://www.erich-kaestner-schule-grevenbroich.de
X-WR-CALDESC:Veranstaltungen im Erich Kästner Schule EKS
BEGIN:VEVENT
DTSTART;TZID=Europe/Berlin:20200617T080000
DTEND;TZID=Europe/Berlin:20200617T123000
DTSTAMP:20260420T000958
CREATED:20200511T112121Z
LAST-MODIFIED:20200511T112122Z
UID:1579-1592380800-1592397000@www.erich-kaestner-schule-grevenbroich.de
SUMMARY:Präsenztag Stufe 2
DESCRIPTION:\n\n\n2 a/b 8.00 – 11.30 Uhr \n\n\n\n2 c/d 9.00 – 12.30 Uhr  \n\n\n\n\n\n\n\n\n\n\n
URL:http://www.erich-kaestner-schule-grevenbroich.de/termin/praesenztag-stufe-2-6/
END:VEVENT
END:VCALENDAR