BEGIN:VCALENDAR
VERSION:2.0
PRODID:-//Erich Kästner Schule EKS - ECPv4.9.3.2//NONSGML v1.0//EN
CALSCALE:GREGORIAN
METHOD:PUBLISH
X-WR-CALNAME:Erich Kästner Schule EKS
X-ORIGINAL-URL:http://www.erich-kaestner-schule-grevenbroich.de
X-WR-CALDESC:Veranstaltungen im Erich Kästner Schule EKS
BEGIN:VEVENT
DTSTART;TZID=Europe/Berlin:20200609T080000
DTEND;TZID=Europe/Berlin:20200609T123000
DTSTAMP:20260419T234619
CREATED:20200511T111830Z
LAST-MODIFIED:20200511T111831Z
UID:1571-1591689600-1591705800@www.erich-kaestner-schule-grevenbroich.de
SUMMARY:Präsenztag Stufe 2
DESCRIPTION:\n\n\n2 a/b 8.00 – 11.30 Uhr \n\n\n\n2 c/d 9.00 – 12.30 Uhr  \n\n\n\n\n\n\n\n\n\n\n
URL:http://www.erich-kaestner-schule-grevenbroich.de/termin/praesenztag-stufe-2-5/
END:VEVENT
END:VCALENDAR