BEGIN:VCALENDAR
VERSION:2.0
PRODID:-//Erich Kästner Schule EKS - ECPv4.9.3.2//NONSGML v1.0//EN
CALSCALE:GREGORIAN
METHOD:PUBLISH
X-WR-CALNAME:Erich Kästner Schule EKS
X-ORIGINAL-URL:http://www.erich-kaestner-schule-grevenbroich.de
X-WR-CALDESC:Veranstaltungen im Erich Kästner Schule EKS
BEGIN:VEVENT
DTSTART;TZID=Europe/Berlin:20200602T080000
DTEND;TZID=Europe/Berlin:20200602T170000
DTSTAMP:20260419T223256
CREATED:20190824T110306Z
LAST-MODIFIED:20200520T084904Z
UID:892-1591084800-1591117200@www.erich-kaestner-schule-grevenbroich.de
SUMMARY:Pfingstdienstag
DESCRIPTION:\n\n\nUnterrichtsfrei – OGS geschlossen! \n\n\n\n\n\n\n\n\n\n\n
URL:http://www.erich-kaestner-schule-grevenbroich.de/termin/pfingstdienstag/
END:VEVENT
END:VCALENDAR