BEGIN:VCALENDAR
VERSION:2.0
PRODID:-//Erich Kästner Schule EKS - ECPv4.9.3.2//NONSGML v1.0//EN
CALSCALE:GREGORIAN
METHOD:PUBLISH
X-WR-CALNAME:Erich Kästner Schule EKS
X-ORIGINAL-URL:http://www.erich-kaestner-schule-grevenbroich.de
X-WR-CALDESC:Veranstaltungen im Erich Kästner Schule EKS
BEGIN:VEVENT
DTSTART;TZID=Europe/Berlin:20191004T080000
DTEND;TZID=Europe/Berlin:20191004T160000
DTSTAMP:20260419T150555
CREATED:20190824T103608Z
LAST-MODIFIED:20190824T103609Z
UID:831-1570176000-1570204800@www.erich-kaestner-schule-grevenbroich.de
SUMMARY:Pädagogischer Ganztag
DESCRIPTION:\n\n\nUnterrichtsfrei \n\n\n\n\n\n\n\n\n\n\n
URL:http://www.erich-kaestner-schule-grevenbroich.de/termin/paedagogischer-ganztag/
END:VEVENT
END:VCALENDAR