BEGIN:VCALENDAR
VERSION:2.0
PRODID:-//Erich Kästner Schule EKS - ECPv4.9.3.2//NONSGML v1.0//EN
CALSCALE:GREGORIAN
METHOD:PUBLISH
X-WR-CALNAME:Erich Kästner Schule EKS
X-ORIGINAL-URL:http://www.erich-kaestner-schule-grevenbroich.de
X-WR-CALDESC:Veranstaltungen im Erich Kästner Schule EKS
BEGIN:VEVENT
DTSTART;TZID=Europe/Berlin:20210112T080000
DTEND;TZID=Europe/Berlin:20210112T160000
DTSTAMP:20260420T074159
CREATED:20200817T083443Z
LAST-MODIFIED:20200817T083444Z
UID:1743-1610438400-1610467200@www.erich-kaestner-schule-grevenbroich.de
SUMMARY:Pädagogische Ganztagskonferenz
DESCRIPTION:\n\n\nUnterrichtsfrei \n\n\n\nOGS geöffnet \n\n\n\n\n\n\n\n\n\n\n
URL:http://www.erich-kaestner-schule-grevenbroich.de/termin/paedagogische-ganztagskonferenz/
END:VEVENT
END:VCALENDAR