BEGIN:VCALENDAR
VERSION:2.0
PRODID:-//Erich Kästner Schule EKS - ECPv4.9.3.2//NONSGML v1.0//EN
CALSCALE:GREGORIAN
METHOD:PUBLISH
X-WR-CALNAME:Erich Kästner Schule EKS
X-ORIGINAL-URL:http://www.erich-kaestner-schule-grevenbroich.de
X-WR-CALDESC:Veranstaltungen im Erich Kästner Schule EKS
BEGIN:VEVENT
DTSTART;TZID=Europe/Berlin:20210308T080000
DTEND;TZID=Europe/Berlin:20210308T160000
DTSTAMP:20260420T041356
CREATED:20200817T083520Z
LAST-MODIFIED:20201105T092911Z
UID:1745-1615190400-1615219200@www.erich-kaestner-schule-grevenbroich.de
SUMMARY:Pädagogische Ganztagskonferenz
DESCRIPTION:\n\n\nUnterrichtsfrei \n\n\n\nOGS geschlossen \n\n\n\n\n\n\n\n\n\n\n
URL:http://www.erich-kaestner-schule-grevenbroich.de/termin/paedagogische-ganztagskonferenz-2/
END:VEVENT
END:VCALENDAR