BEGIN:VCALENDAR
VERSION:2.0
PRODID:-//Erich Kästner Schule EKS - ECPv4.9.3.2//NONSGML v1.0//EN
CALSCALE:GREGORIAN
METHOD:PUBLISH
X-WR-CALNAME:Erich Kästner Schule EKS
X-ORIGINAL-URL:http://www.erich-kaestner-schule-grevenbroich.de
X-WR-CALDESC:Veranstaltungen im Erich Kästner Schule EKS
BEGIN:VEVENT
DTSTART;TZID=Europe/Berlin:20210405T080000
DTEND;TZID=Europe/Berlin:20210405T170000
DTSTAMP:20260420T073731
CREATED:20200817T085125Z
LAST-MODIFIED:20200817T085126Z
UID:1784-1617609600-1617642000@www.erich-kaestner-schule-grevenbroich.de
SUMMARY:Ostermontag
DESCRIPTION:\n\n\nOGS geschlossen \n\n\n\n\n\n\n\n\n\n\n
URL:http://www.erich-kaestner-schule-grevenbroich.de/termin/ostermontag-2/
END:VEVENT
END:VCALENDAR