BEGIN:VCALENDAR
VERSION:2.0
PRODID:-//Erich Kästner Schule EKS - ECPv4.9.3.2//NONSGML v1.0//EN
CALSCALE:GREGORIAN
METHOD:PUBLISH
X-WR-CALNAME:Erich Kästner Schule EKS
X-ORIGINAL-URL:http://www.erich-kaestner-schule-grevenbroich.de
X-WR-CALDESC:Veranstaltungen im Erich Kästner Schule EKS
BEGIN:VEVENT
DTSTART;TZID=Europe/Berlin:20210329T080000
DTEND;TZID=Europe/Berlin:20210409T170000
DTSTAMP:20260420T063828
CREATED:20200817T084713Z
LAST-MODIFIED:20200817T084719Z
UID:1776-1617004800-1617987600@www.erich-kaestner-schule-grevenbroich.de
SUMMARY:Osterferien
DESCRIPTION:\n\n\n \n\n\n\n\n\n\n\n\n\n\n
URL:http://www.erich-kaestner-schule-grevenbroich.de/termin/osterferien-2/
END:VEVENT
END:VCALENDAR