BEGIN:VCALENDAR
VERSION:2.0
PRODID:-//Erich Kästner Schule EKS - ECPv4.9.3.2//NONSGML v1.0//EN
CALSCALE:GREGORIAN
METHOD:PUBLISH
X-WR-CALNAME:Erich Kästner Schule EKS
X-ORIGINAL-URL:http://www.erich-kaestner-schule-grevenbroich.de
X-WR-CALDESC:Veranstaltungen im Erich Kästner Schule EKS
BEGIN:VEVENT
DTSTART;TZID=Europe/Berlin:20231003T080000
DTEND;TZID=Europe/Berlin:20231003T170000
DTSTAMP:20260421T104929
CREATED:20230919T074351Z
LAST-MODIFIED:20230919T074359Z
UID:3210-1696320000-1696352400@www.erich-kaestner-schule-grevenbroich.de
SUMMARY:OGS geschlossen - Feiertag
DESCRIPTION:\n\n\n \n\n\n\n\n\n\n\n\n\n\n
URL:http://www.erich-kaestner-schule-grevenbroich.de/termin/ogs-geschlossen-feiertag/
END:VEVENT
END:VCALENDAR