BEGIN:VCALENDAR
VERSION:2.0
PRODID:-//Erich Kästner Schule EKS - ECPv4.9.3.2//NONSGML v1.0//EN
CALSCALE:GREGORIAN
METHOD:PUBLISH
X-WR-CALNAME:Erich Kästner Schule EKS
X-ORIGINAL-URL:http://www.erich-kaestner-schule-grevenbroich.de
X-WR-CALDESC:Veranstaltungen im Erich Kästner Schule EKS
BEGIN:VEVENT
DTSTART;TZID=Europe/Berlin:20210329T080000
DTEND;TZID=Europe/Berlin:20210401T160000
DTSTAMP:20260420T081057
CREATED:20200817T084827Z
LAST-MODIFIED:20200817T084828Z
UID:1778-1617004800-1617292800@www.erich-kaestner-schule-grevenbroich.de
SUMMARY:OGS geöffnet
DESCRIPTION:\n\n\n \n\n\n\n\n\n\n\n\n\n\n
URL:http://www.erich-kaestner-schule-grevenbroich.de/termin/ogs-geoeffnet-3/
END:VEVENT
END:VCALENDAR