BEGIN:VCALENDAR
VERSION:2.0
PRODID:-//Erich Kästner Schule EKS - ECPv4.9.3.2//NONSGML v1.0//EN
CALSCALE:GREGORIAN
METHOD:PUBLISH
X-WR-CALNAME:Erich Kästner Schule EKS
X-ORIGINAL-URL:http://www.erich-kaestner-schule-grevenbroich.de
X-WR-CALDESC:Veranstaltungen im Erich Kästner Schule EKS
BEGIN:VEVENT
DTSTART;TZID=Europe/Berlin:20210217T080000
DTEND;TZID=Europe/Berlin:20210217T132000
DTSTAMP:20260420T041438
CREATED:20201105T093121Z
LAST-MODIFIED:20210202T102140Z
UID:1939-1613548800-1613568000@www.erich-kaestner-schule-grevenbroich.de
SUMMARY:Mein Körper gehört mir - wird verlegt
DESCRIPTION:\n\n\nStufe 3 \n\n\n\n\n\n\n\n\n\n\n
URL:http://www.erich-kaestner-schule-grevenbroich.de/termin/mein-koerper-gehoert-mir-6/
END:VEVENT
END:VCALENDAR