BEGIN:VCALENDAR
VERSION:2.0
PRODID:-//Erich Kästner Schule EKS - ECPv4.9.3.2//NONSGML v1.0//EN
CALSCALE:GREGORIAN
METHOD:PUBLISH
X-WR-CALNAME:Erich Kästner Schule EKS
X-ORIGINAL-URL:http://www.erich-kaestner-schule-grevenbroich.de
X-WR-CALDESC:Veranstaltungen im Erich Kästner Schule EKS
BEGIN:VEVENT
DTSTART;TZID=Europe/Berlin:20200219T080000
DTEND;TZID=Europe/Berlin:20200219T132000
DTSTAMP:20260419T144638
CREATED:20190824T105405Z
LAST-MODIFIED:20190824T105405Z
UID:870-1582099200-1582118400@www.erich-kaestner-schule-grevenbroich.de
SUMMARY:Mein Körper gehört mir
DESCRIPTION:\n\n\nKlasse 3 \n\n\n\n\n\n\n\n\n\n\n
URL:http://www.erich-kaestner-schule-grevenbroich.de/termin/mein-koerper-gehoert-mir-3/
END:VEVENT
END:VCALENDAR