BEGIN:VCALENDAR
VERSION:2.0
PRODID:-//Erich Kästner Schule EKS - ECPv4.9.3.2//NONSGML v1.0//EN
CALSCALE:GREGORIAN
METHOD:PUBLISH
X-WR-CALNAME:Erich Kästner Schule EKS
X-ORIGINAL-URL:http://www.erich-kaestner-schule-grevenbroich.de
X-WR-CALDESC:Veranstaltungen im Erich Kästner Schule EKS
BEGIN:VEVENT
DTSTART;TZID=Europe/Berlin:20240604T100000
DTEND;TZID=Europe/Berlin:20240604T132000
DTSTAMP:20260419T131433
CREATED:20240322T100111Z
LAST-MODIFIED:20240322T100112Z
UID:3350-1717495200-1717507200@www.erich-kaestner-schule-grevenbroich.de
SUMMARY:Mein Körper gehört mir
DESCRIPTION:\n\n\nStufe 3 \n\n\n\n\n\n\n\n\n\n\n
URL:http://www.erich-kaestner-schule-grevenbroich.de/termin/mein-koerper-gehoert-mir-12/
END:VEVENT
END:VCALENDAR