BEGIN:VCALENDAR
VERSION:2.0
PRODID:-//Erich Kästner Schule EKS - ECPv4.9.3.2//NONSGML v1.0//EN
CALSCALE:GREGORIAN
METHOD:PUBLISH
X-WR-CALNAME:Erich Kästner Schule EKS
X-ORIGINAL-URL:http://www.erich-kaestner-schule-grevenbroich.de
X-WR-CALDESC:Veranstaltungen im Erich Kästner Schule EKS
BEGIN:VEVENT
DTSTART;TZID=Europe/Berlin:20200121T080000
DTEND;TZID=Europe/Berlin:20200121T140000
DTSTAMP:20260419T215113
CREATED:20191118T101811Z
LAST-MODIFIED:20191118T101812Z
UID:1157-1579593600-1579615200@www.erich-kaestner-schule-grevenbroich.de
SUMMARY:Medienscouts
DESCRIPTION:\n\n\nWorkshop für Stufe 3 mit den Medienscouts des Pascal Gymnasiums \n\n\n\n\n\n\n\n\n\n\n
URL:http://www.erich-kaestner-schule-grevenbroich.de/termin/medienscouts/
END:VEVENT
END:VCALENDAR