BEGIN:VCALENDAR
VERSION:2.0
PRODID:-//Erich Kästner Schule EKS - ECPv4.9.3.2//NONSGML v1.0//EN
CALSCALE:GREGORIAN
METHOD:PUBLISH
X-WR-CALNAME:Erich Kästner Schule EKS
X-ORIGINAL-URL:http://www.erich-kaestner-schule-grevenbroich.de
X-WR-CALDESC:Veranstaltungen im Erich Kästner Schule EKS
BEGIN:VEVENT
DTSTART;TZID=Europe/Berlin:20200123T080000
DTEND;TZID=Europe/Berlin:20200123T140000
DTSTAMP:20260419T201450
CREATED:20191118T101946Z
LAST-MODIFIED:20191118T101947Z
UID:1159-1579766400-1579788000@www.erich-kaestner-schule-grevenbroich.de
SUMMARY:Medienscouts
DESCRIPTION:\n\n\n\nWorkshop für Stufe 3 mit den Medienscouts des Pascal Gymnasiums\n\n \n\n\n\n\n\n\n\n\n\n\n
URL:http://www.erich-kaestner-schule-grevenbroich.de/termin/medienscouts-2/
END:VEVENT
END:VCALENDAR