BEGIN:VCALENDAR
VERSION:2.0
PRODID:-//Erich Kästner Schule EKS - ECPv4.9.3.2//NONSGML v1.0//EN
CALSCALE:GREGORIAN
METHOD:PUBLISH
X-WR-CALNAME:Erich Kästner Schule EKS
X-ORIGINAL-URL:http://www.erich-kaestner-schule-grevenbroich.de
X-WR-CALDESC:Veranstaltungen im Erich Kästner Schule EKS
BEGIN:VEVENT
DTSTART;TZID=Europe/Berlin:20201029T080000
DTEND;TZID=Europe/Berlin:20201029T170000
DTSTAMP:20260420T092127
CREATED:20201105T092553Z
LAST-MODIFIED:20201105T092553Z
UID:1921-1603958400-1603990800@www.erich-kaestner-schule-grevenbroich.de
SUMMARY:Gewaltfrei Lernen
DESCRIPTION:\n\n\n \n\n\n\n\n\n\n\n\n\n\n
URL:http://www.erich-kaestner-schule-grevenbroich.de/termin/gewaltfrei-lernen-9/
END:VEVENT
END:VCALENDAR