BEGIN:VCALENDAR
VERSION:2.0
PRODID:-//Erich Kästner Schule EKS - ECPv4.9.3.2//NONSGML v1.0//EN
CALSCALE:GREGORIAN
METHOD:PUBLISH
X-WR-CALNAME:Erich Kästner Schule EKS
X-ORIGINAL-URL:http://www.erich-kaestner-schule-grevenbroich.de
X-WR-CALDESC:Veranstaltungen im Erich Kästner Schule EKS
BEGIN:VEVENT
DTSTART;TZID=Europe/Berlin:20191114T080000
DTEND;TZID=Europe/Berlin:20191114T132000
DTSTAMP:20260419T195445
CREATED:20190824T105056Z
LAST-MODIFIED:20190902T172734Z
UID:862-1573718400-1573737600@www.erich-kaestner-schule-grevenbroich.de
SUMMARY:Gewaltfrei Lernen
DESCRIPTION:\n\n\n \n\n\n\n\n\n\n\n\n\n\n
URL:http://www.erich-kaestner-schule-grevenbroich.de/termin/gewaltfrei-lernen-6/
END:VEVENT
END:VCALENDAR