BEGIN:VCALENDAR
VERSION:2.0
PRODID:-//Erich Kästner Schule EKS - ECPv4.9.3.2//NONSGML v1.0//EN
CALSCALE:GREGORIAN
METHOD:PUBLISH
X-WR-CALNAME:Erich Kästner Schule EKS
X-ORIGINAL-URL:http://www.erich-kaestner-schule-grevenbroich.de
X-WR-CALDESC:Veranstaltungen im Erich Kästner Schule EKS
BEGIN:VEVENT
DTSTART;TZID=Europe/Berlin:20201110T080000
DTEND;TZID=Europe/Berlin:20201110T170000
DTSTAMP:20260420T092124
CREATED:20201105T092637Z
LAST-MODIFIED:20201105T092637Z
UID:1925-1604995200-1605027600@www.erich-kaestner-schule-grevenbroich.de
SUMMARY:Gewaltfrei Lernen
DESCRIPTION:\n\n\n \n\n\n\n\n\n\n\n\n\n\n
URL:http://www.erich-kaestner-schule-grevenbroich.de/termin/gewaltfrei-lernen-11/
END:VEVENT
END:VCALENDAR