BEGIN:VCALENDAR
VERSION:2.0
PRODID:-//Erich Kästner Schule EKS - ECPv4.9.3.2//NONSGML v1.0//EN
CALSCALE:GREGORIAN
METHOD:PUBLISH
X-WR-CALNAME:Erich Kästner Schule EKS
X-ORIGINAL-URL:http://www.erich-kaestner-schule-grevenbroich.de
X-WR-CALDESC:Veranstaltungen im Erich Kästner Schule EKS
BEGIN:VEVENT
DTSTART;TZID=Europe/Berlin:20210215T080000
DTEND;TZID=Europe/Berlin:20210215T170000
DTSTAMP:20260420T075151
CREATED:20200817T083752Z
LAST-MODIFIED:20200817T083916Z
UID:1751-1613376000-1613408400@www.erich-kaestner-schule-grevenbroich.de
SUMMARY:FREI - beweglicher Ferientag
DESCRIPTION:\n\n\nRosenmontag \n\n\n\nOGS geschlossen \n\n\n\n\n\n\n\n\n\n\n
URL:http://www.erich-kaestner-schule-grevenbroich.de/termin/frei-beweglicher-ferientag/
END:VEVENT
END:VCALENDAR