BEGIN:VCALENDAR
VERSION:2.0
PRODID:-//Erich Kästner Schule EKS - ECPv4.9.3.2//NONSGML v1.0//EN
CALSCALE:GREGORIAN
METHOD:PUBLISH
X-WR-CALNAME:Erich Kästner Schule EKS
X-ORIGINAL-URL:http://www.erich-kaestner-schule-grevenbroich.de
X-WR-CALDESC:Veranstaltungen im Erich Kästner Schule EKS
BEGIN:VEVENT
DTSTART;TZID=Europe/Berlin:20210818T080000
DTEND;TZID=Europe/Berlin:20210818T170000
DTSTAMP:20260419T211524
CREATED:20210202T102847Z
LAST-MODIFIED:20210202T102848Z
UID:2010-1629273600-1629306000@www.erich-kaestner-schule-grevenbroich.de
SUMMARY:Erster Schultag SJ 21/22
DESCRIPTION:\n\n\n \n\n\n\n\n\n\n\n\n\n\n
URL:http://www.erich-kaestner-schule-grevenbroich.de/termin/erster-schultag-sj-21-22/
END:VEVENT
END:VCALENDAR