BEGIN:VCALENDAR
VERSION:2.0
PRODID:-//Erich Kästner Schule EKS - ECPv4.9.3.2//NONSGML v1.0//EN
CALSCALE:GREGORIAN
METHOD:PUBLISH
X-WR-CALNAME:Erich Kästner Schule EKS
X-ORIGINAL-URL:http://www.erich-kaestner-schule-grevenbroich.de
X-WR-CALDESC:Veranstaltungen im Erich Kästner Schule EKS
BEGIN:VEVENT
DTSTART;TZID=Europe/Berlin:20240827T190000
DTEND;TZID=Europe/Berlin:20240827T210000
DTSTAMP:20260419T162005
CREATED:20240617T071748Z
LAST-MODIFIED:20240617T071748Z
UID:3387-1724785200-1724792400@www.erich-kaestner-schule-grevenbroich.de
SUMMARY:Elternabend OGS
DESCRIPTION:\n\n\n \n\n\n\n\n\n\n\n\n\n\n
URL:http://www.erich-kaestner-schule-grevenbroich.de/termin/elternabend-ogs-5/
END:VEVENT
END:VCALENDAR