BEGIN:VCALENDAR
VERSION:2.0
PRODID:-//Erich Kästner Schule EKS - ECPv4.9.3.2//NONSGML v1.0//EN
CALSCALE:GREGORIAN
METHOD:PUBLISH
X-WR-CALNAME:Erich Kästner Schule EKS
X-ORIGINAL-URL:http://www.erich-kaestner-schule-grevenbroich.de
X-WR-CALDESC:Veranstaltungen im Erich Kästner Schule EKS
BEGIN:VEVENT
DTSTART;TZID=Europe/Berlin:20210824T190000
DTEND;TZID=Europe/Berlin:20210824T213000
DTSTAMP:20260419T173615
CREATED:20210802T084412Z
LAST-MODIFIED:20210802T084413Z
UID:2149-1629831600-1629840600@www.erich-kaestner-schule-grevenbroich.de
SUMMARY:Elternabend OGS
DESCRIPTION:\n\n\n \n\n\n\n\n\n\n\n\n\n\n
URL:http://www.erich-kaestner-schule-grevenbroich.de/termin/elternabend-ogs-2/
END:VEVENT
END:VCALENDAR