BEGIN:VCALENDAR
VERSION:2.0
PRODID:-//Erich Kästner Schule EKS - ECPv4.9.3.2//NONSGML v1.0//EN
CALSCALE:GREGORIAN
METHOD:PUBLISH
X-WR-CALNAME:Erich Kästner Schule EKS
X-ORIGINAL-URL:http://www.erich-kaestner-schule-grevenbroich.de
X-WR-CALDESC:Veranstaltungen im Erich Kästner Schule EKS
BEGIN:VEVENT
DTSTART;TZID=Europe/Berlin:20191105T163000
DTEND;TZID=Europe/Berlin:20191105T180000
DTSTAMP:20260419T144654
CREATED:20191005T132330Z
LAST-MODIFIED:20191005T132331Z
UID:1096-1572971400-1572976800@www.erich-kaestner-schule-grevenbroich.de
SUMMARY:Eltern-Kind-Café zum Übergang SEK I
DESCRIPTION:\n\n\nIm Rahmen des diesjährigen VIVO-Projektes\, gefördert durch die Stiftung  der Deutschen Wirtschaft\, findet die diesjährige  Informationsveranstaltung zum Übergang SEK I in Form eines  Eltern-Kind-Cafés statt.  \n\n\n\n\n\n\n\n\n\n\n
URL:http://www.erich-kaestner-schule-grevenbroich.de/termin/eltern-kind-cafe-zum-uebergang-sek-i/
END:VEVENT
END:VCALENDAR