BEGIN:VCALENDAR
VERSION:2.0
PRODID:-//Erich Kästner Schule EKS - ECPv4.9.3.2//NONSGML v1.0//EN
CALSCALE:GREGORIAN
METHOD:PUBLISH
X-WR-CALNAME:Erich Kästner Schule EKS
X-ORIGINAL-URL:http://www.erich-kaestner-schule-grevenbroich.de
X-WR-CALDESC:Veranstaltungen im Erich Kästner Schule EKS
BEGIN:VEVENT
DTSTART;TZID=Europe/Berlin:20210819T080000
DTEND;TZID=Europe/Berlin:20210819T123000
DTSTAMP:20260419T192445
CREATED:20210802T084209Z
LAST-MODIFIED:20210802T084329Z
UID:2146-1629360000-1629376200@www.erich-kaestner-schule-grevenbroich.de
SUMMARY:Einschulung Schulneulinge
DESCRIPTION:\n\n\n1a\, 1c (Waschbär & Zebra)   –          Donnerstag\,      19.08.2021\, 8.30 Uhr1b\, 1d (Löwe & Drache)        –          Donnerstag\,      19.08.2021\, 10.30 Uhr\n\n\n\nMaskenpflicht – 3G (Getestet\, Genesen\, Geimpft) – Kontaktnachverfolgung!!! \n\n\n\n\n\n\n\n\n\n\n
URL:http://www.erich-kaestner-schule-grevenbroich.de/termin/einschulung-schulneulinge/
END:VEVENT
END:VCALENDAR