BEGIN:VCALENDAR
VERSION:2.0
PRODID:-//Erich Kästner Schule EKS - ECPv4.9.3.2//NONSGML v1.0//EN
CALSCALE:GREGORIAN
METHOD:PUBLISH
X-WR-CALNAME:Erich Kästner Schule EKS
X-ORIGINAL-URL:http://www.erich-kaestner-schule-grevenbroich.de
X-WR-CALDESC:Veranstaltungen im Erich Kästner Schule EKS
BEGIN:VEVENT
DTSTART;TZID=Europe/Berlin:20200521T080000
DTEND;TZID=Europe/Berlin:20200521T170000
DTSTAMP:20260420T011049
CREATED:20190824T110111Z
LAST-MODIFIED:20191118T104748Z
UID:886-1590048000-1590080400@www.erich-kaestner-schule-grevenbroich.de
SUMMARY:Christi Himmelfahrt
DESCRIPTION:\n\n\nUnterrichtsfrei – OGS geschlossen! \n\n\n\n\n\n\n\n\n\n\n
URL:http://www.erich-kaestner-schule-grevenbroich.de/termin/christi-himmelfahrt/
END:VEVENT
END:VCALENDAR