BEGIN:VCALENDAR
VERSION:2.0
PRODID:-//Erich Kästner Schule EKS - ECPv4.9.3.2//NONSGML v1.0//EN
CALSCALE:GREGORIAN
METHOD:PUBLISH
X-WR-CALNAME:Erich Kästner Schule EKS
X-ORIGINAL-URL:http://www.erich-kaestner-schule-grevenbroich.de
X-WR-CALDESC:Veranstaltungen im Erich Kästner Schule EKS
BEGIN:VEVENT
DTSTART;TZID=Europe/Berlin:20201120T080000
DTEND;TZID=Europe/Berlin:20201120T123000
DTSTAMP:20260420T105326
CREATED:20200817T083034Z
LAST-MODIFIED:20200817T083035Z
UID:1738-1605859200-1605875400@www.erich-kaestner-schule-grevenbroich.de
SUMMARY:Bundesweiter Vorlesetag
DESCRIPTION:\n\n\n \n\n\n\n\n\n\n\n\n\n\n
URL:http://www.erich-kaestner-schule-grevenbroich.de/termin/bundesweiter-vorlesetag-2/
END:VEVENT
END:VCALENDAR