BEGIN:VCALENDAR
VERSION:2.0
PRODID:-//Erich Kästner Schule EKS - ECPv4.9.3.2//NONSGML v1.0//EN
CALSCALE:GREGORIAN
METHOD:PUBLISH
X-WR-CALNAME:Erich Kästner Schule EKS
X-ORIGINAL-URL:http://www.erich-kaestner-schule-grevenbroich.de
X-WR-CALDESC:Veranstaltungen im Erich Kästner Schule EKS
BEGIN:VEVENT
DTSTART;TZID=Europe/Berlin:20200612T080000
DTEND;TZID=Europe/Berlin:20200612T170000
DTSTAMP:20260419T183911
CREATED:20190824T110418Z
LAST-MODIFIED:20191118T104830Z
UID:896-1591948800-1591981200@www.erich-kaestner-schule-grevenbroich.de
SUMMARY:bewegl. Ferientag
DESCRIPTION:\n\n\nUnterrichtsfrei – OGS geschlossen! \n\n\n\n\n\n\n\n\n\n\n
URL:http://www.erich-kaestner-schule-grevenbroich.de/termin/bewegl-ferientag-2/
END:VEVENT
END:VCALENDAR